BEGIN:VCALENDAR
VERSION:2.0
PRODID:-//MeadComps - ECPv6.0.12//NONSGML v1.0//EN
CALSCALE:GREGORIAN
METHOD:PUBLISH
X-WR-CALNAME:MeadComps
X-ORIGINAL-URL:https://meadcomps.com
X-WR-CALDESC:Events for MeadComps
REFRESH-INTERVAL;VALUE=DURATION:PT1H
X-Robots-Tag:noindex
X-PUBLISHED-TTL:PT1H
BEGIN:VTIMEZONE
TZID:America/Chicago
BEGIN:DAYLIGHT
TZOFFSETFROM:-0600
TZOFFSETTO:-0500
TZNAME:CDT
DTSTART:20250309T080000
END:DAYLIGHT
BEGIN:STANDARD
TZOFFSETFROM:-0500
TZOFFSETTO:-0600
TZNAME:CST
DTSTART:20251102T070000
END:STANDARD
END:VTIMEZONE
BEGIN:VEVENT
DTSTART;TZID=America/Chicago:20250710T080000
DTEND;TZID=America/Chicago:20250711T210000
DTSTAMP:20260420T234036
CREATED:20240918T032102Z
LAST-MODIFIED:20240918T032102Z
UID:10000041-1752134400-1752267600@meadcomps.com
SUMMARY:Mead Stampede
DESCRIPTION:A mead competition from your favorite Meadtubers! A simple\, approachable\, mead competition – now in its third year! Our team has worked hard to make sure the competition is in line with other homebrewing competitions regarding rules\, timeframes\, and judging criteria. \nCost is $10 per entry and you are limited to 4 entries.
URL:https://meadcomps.com/event/mead-stampede-3/
LOCATION:White Buffalo\, Address: 4601 N May Ave\, Oklahoma City\, OK\, 73112\, United States
ATTACH;FMTTYPE=image/jpeg:https://meadcomps.com/wp-content/uploads/2023/10/cover.jpg
ORGANIZER;CN="Mead%20Stampede":MAILTO:info@meadstampede.org
END:VEVENT
END:VCALENDAR