BEGIN:VCALENDAR
VERSION:2.0
PRODID:-//MeadComps - ECPv6.0.12//NONSGML v1.0//EN
CALSCALE:GREGORIAN
METHOD:PUBLISH
X-ORIGINAL-URL:https://meadcomps.com
X-WR-CALDESC:Events for MeadComps
REFRESH-INTERVAL;VALUE=DURATION:PT1H
X-Robots-Tag:noindex
X-PUBLISHED-TTL:PT1H
BEGIN:VTIMEZONE
TZID:UTC
BEGIN:STANDARD
TZOFFSETFROM:+0000
TZOFFSETTO:+0000
TZNAME:UTC
DTSTART:20230101T000000
END:STANDARD
END:VTIMEZONE
BEGIN:VEVENT
DTSTART;TZID=UTC:20231017T080000
DTEND;TZID=UTC:20231022T170000
DTSTAMP:20260420T130440
CREATED:20230907T202513Z
LAST-MODIFIED:20230907T202520Z
UID:10000025-1697529600-1697994000@meadcomps.com
SUMMARY:Southern New England Regional Homebrew Competition
DESCRIPTION:The Southern New England Regional Homebrew Competition organized by The Underground Brewers of Connecticut\, Armada Brewing\, 190 River St\, New Haven\, CT 06513
URL:https://meadcomps.com/event/southern-new-england-regional-homebrew-competition/
LOCATION:Armada Brewing\, Armada Brewing\, 190 River St\,\, New Haven\, CT\, 06513\, United States
ATTACH;FMTTYPE=image/png:https://meadcomps.com/wp-content/uploads/2023/09/snerhc_medal_2023-01.png
END:VEVENT
BEGIN:VEVENT
DTSTART;TZID=UTC:20231022T090000
DTEND;TZID=UTC:20231022T170000
DTSTAMP:20260420T130440
CREATED:20230516T190156Z
LAST-MODIFIED:20230516T190156Z
UID:10000018-1697965200-1697994000@meadcomps.com
SUMMARY:Chili Pepper Extravaganza 2023
DESCRIPTION:A homebrew competition focusing exclusively on beers\, ciders\, and meads that incorporate chili peppers.
URL:https://meadcomps.com/event/chili-pepper-extravaganza-2023/
ATTACH;FMTTYPE=image/jpeg:https://meadcomps.com/wp-content/uploads/2023/05/PepperExtravaganza.jpg
END:VEVENT
BEGIN:VEVENT
DTSTART;TZID=UTC:20231105T170000
DTEND;TZID=UTC:20231112T130000
DTSTAMP:20260420T130440
CREATED:20230531T043058Z
LAST-MODIFIED:20230531T043058Z
UID:10000019-1699203600-1699794000@meadcomps.com
SUMMARY:New England Regional Homebrew Competition
DESCRIPTION:NERHBC is back for 2023 \nThis competition is a Master Championship of Amateur Brewing (MCAB) Qualifying Event. \nThis competition is AHA sanctioned and open to any amateur homebrewer age 21 or older.
URL:https://meadcomps.com/event/new-england-regional-homebrew-competition/
ATTACH;FMTTYPE=image/png:https://meadcomps.com/wp-content/uploads/2023/05/nerhbc_emblem_green_final-1.png
ORGANIZER;CN="Brew%20Free%20or%20Die":MAILTO:info@bfd.org
END:VEVENT
BEGIN:VEVENT
DTSTART;TZID=UTC:20240223T080000
DTEND;TZID=UTC:20240224T210000
DTSTAMP:20260420T130440
CREATED:20231114T155621Z
LAST-MODIFIED:20231114T155656Z
UID:10000032-1708675200-1708808400@meadcomps.com
SUMMARY:Valkyries Horn Mead Competition
DESCRIPTION:Premier mead competition organized by experienced enthusiasts. Second largest mead only competition in the world. \n\nEducational events (panel discussion – Friday\, traditional mead tasting with source honey – Saturday)\nBottle share\nLive awards\n\nHotel block and private party room for sharing.
URL:https://meadcomps.com/event/valkyries-horn-mead-competition/
LOCATION:Forgotten Star Brewing\, Fridley\, MN\, United States
ATTACH;FMTTYPE=image/jpeg:https://meadcomps.com/wp-content/uploads/2023/11/20210918_161814.jpg
ORGANIZER;CN="Valkyries%20Horn":MAILTO:info@valkyrieshorn.com
END:VEVENT
BEGIN:VEVENT
DTSTART;VALUE=DATE:20240927
DTEND;VALUE=DATE:20240928
DTSTAMP:20260420T130441
CREATED:20240729T191735Z
LAST-MODIFIED:20240729T191735Z
UID:10000040-1727395200-1727481599@meadcomps.com
SUMMARY:Virginia Mead Cup
DESCRIPTION:Mead only competition held in Roanoke\, Virginia
URL:https://meadcomps.com/event/virginia-mead-cup-2/
LOCATION:Atheling Meadworks\, 451 McClanahan St SW\, Roanoke\, 24014\, United States
END:VEVENT
END:VCALENDAR