BEGIN:VCALENDAR
VERSION:2.0
PRODID:-//MeadComps - ECPv6.0.12//NONSGML v1.0//EN
CALSCALE:GREGORIAN
METHOD:PUBLISH
X-ORIGINAL-URL:https://meadcomps.com
X-WR-CALDESC:Events for MeadComps
REFRESH-INTERVAL;VALUE=DURATION:PT1H
X-Robots-Tag:noindex
X-PUBLISHED-TTL:PT1H
BEGIN:VTIMEZONE
TZID:UTC
BEGIN:STANDARD
TZOFFSETFROM:+0000
TZOFFSETTO:+0000
TZNAME:UTC
DTSTART:20240101T000000
END:STANDARD
END:VTIMEZONE
BEGIN:VEVENT
DTSTART;TZID=UTC:20240127T090000
DTEND;TZID=UTC:20240127T170000
DTSTAMP:20260421T095844
CREATED:20231002T195822Z
LAST-MODIFIED:20231002T195822Z
UID:10000026-1706346000-1706374800@meadcomps.com
SUMMARY:Bataille des Biѐres Homebrew Competition
DESCRIPTION:The Bataille des Biѐres is AHA sanctioned and open to any amateur homebrewer age 21 or older. \nAll entries must be handcrafted products\, containing ingredients available to the general public\, and made using private equipment by hobbyist brewers (i.e.\, no use of commercial facilities or Brew on Premises operations\, supplies\, etc.). \nThe competition organizers are not responsible for mis-categorized entries\, mailed entries that are not received by the entry deadline\, or entries that arrived damaged. \nThe competition organizers reserve the right to combine styles for judging as needed depending upon the quantity of entries. All possible effort will be made to combine similar styles. All brews in combined categories will be judged according to the style they were originally entered in. \nQualified judging of all entries is the primary goal of our event. Judges will evaluate and score each entry. The judges will determine by consensus\, the rank of each entry in its category. \nEach flight will have at least one BJCP judge. \nYour beers will be judged in ‘beer clean’ glassware – not plastic cups!! \nThe Best of Show judging will be determined by a Best of Show panel based on a second judging of the top winners from each award-category.
URL:https://meadcomps.com/event/bataille-des-bi%d1%90res-homebrew-competition/
ATTACH;FMTTYPE=image/png:https://meadcomps.com/wp-content/uploads/2023/10/IMG_6968.png
ORGANIZER;CN="Dead%20Yeast%20Society":MAILTO:boudreauxjim@gmail.com
END:VEVENT
END:VCALENDAR