BEGIN:VCALENDAR
VERSION:2.0
PRODID:-//MeadComps - ECPv6.0.12//NONSGML v1.0//EN
CALSCALE:GREGORIAN
METHOD:PUBLISH
X-ORIGINAL-URL:https://meadcomps.com
X-WR-CALDESC:Events for MeadComps
REFRESH-INTERVAL;VALUE=DURATION:PT1H
X-Robots-Tag:noindex
X-PUBLISHED-TTL:PT1H
BEGIN:VTIMEZONE
TZID:America/Chicago
BEGIN:DAYLIGHT
TZOFFSETFROM:-0600
TZOFFSETTO:-0500
TZNAME:CDT
DTSTART:20230312T080000
END:DAYLIGHT
BEGIN:STANDARD
TZOFFSETFROM:-0500
TZOFFSETTO:-0600
TZNAME:CST
DTSTART:20231105T070000
END:STANDARD
BEGIN:DAYLIGHT
TZOFFSETFROM:-0600
TZOFFSETTO:-0500
TZNAME:CDT
DTSTART:20240310T080000
END:DAYLIGHT
BEGIN:STANDARD
TZOFFSETFROM:-0500
TZOFFSETTO:-0600
TZNAME:CST
DTSTART:20241103T070000
END:STANDARD
BEGIN:DAYLIGHT
TZOFFSETFROM:-0600
TZOFFSETTO:-0500
TZNAME:CDT
DTSTART:20250309T080000
END:DAYLIGHT
BEGIN:STANDARD
TZOFFSETFROM:-0500
TZOFFSETTO:-0600
TZNAME:CST
DTSTART:20251102T070000
END:STANDARD
END:VTIMEZONE
BEGIN:VEVENT
DTSTART;TZID=America/Chicago:20250710T080000
DTEND;TZID=America/Chicago:20250711T210000
DTSTAMP:20260420T084952
CREATED:20240918T032102Z
LAST-MODIFIED:20240918T032102Z
UID:10000041-1752134400-1752267600@meadcomps.com
SUMMARY:Mead Stampede
DESCRIPTION:A mead competition from your favorite Meadtubers! A simple\, approachable\, mead competition – now in its third year! Our team has worked hard to make sure the competition is in line with other homebrewing competitions regarding rules\, timeframes\, and judging criteria. \nCost is $10 per entry and you are limited to 4 entries.
URL:https://meadcomps.com/event/mead-stampede-3/
LOCATION:White Buffalo\, Address: 4601 N May Ave\, Oklahoma City\, OK\, 73112\, United States
ATTACH;FMTTYPE=image/jpeg:https://meadcomps.com/wp-content/uploads/2023/10/cover.jpg
ORGANIZER;CN="Mead%20Stampede":MAILTO:info@meadstampede.org
END:VEVENT
BEGIN:VEVENT
DTSTART;TZID=America/Chicago:20240718T080000
DTEND;TZID=America/Chicago:20240719T210000
DTSTAMP:20260420T084952
CREATED:20231009T142922Z
LAST-MODIFIED:20231009T143005Z
UID:10000027-1721289600-1721422800@meadcomps.com
SUMMARY:Mead Stampede
DESCRIPTION:A mead competition from your favorite Meadtubers! A simple\, approachable\, mead competition – now in its third year! Our team has worked hard to make sure the competition is in line with other homebrewing competitions regarding rules\, timeframes\, and judging criteria. \nCost is $10 per entry and you are limited to 4 entries. \nBe sure to play our Cattle Battle category\, too! Mead Stampede organizers will brew up a special batch of lactomel mead featuring breakfast cereal. Here’s the challenge: we just gave you the ingredients\, but not the recipe. You brew with these ingredients – trying your best to guess what the Cattle Battle Challenge mead tastes like. Whichever entry gets the closest in flavor to the official brew will be declared the winner!
URL:https://meadcomps.com/event/mead-stampede-2/
LOCATION:White Buffalo\, Address: 4601 N May Ave\, Oklahoma City\, OK\, 73112\, United States
ATTACH;FMTTYPE=image/jpeg:https://meadcomps.com/wp-content/uploads/2023/10/cover.jpg
ORGANIZER;CN="Mead%20Stampede":MAILTO:info@meadstampede.org
END:VEVENT
BEGIN:VEVENT
DTSTART;TZID=America/Chicago:20230714T080000
DTEND;TZID=America/Chicago:20230715T190000
DTSTAMP:20260420T084952
CREATED:20230414T014811Z
LAST-MODIFIED:20230420T135008Z
UID:10000006-1689321600-1689447600@meadcomps.com
SUMMARY:Mead Stampede
DESCRIPTION:Mead Stampede at MeadComps: https://shorturl.at/pxEP2 \nA mead competition from your favorite Meadtubers! A simple\, approachable\, mead competition – now in its third year! Our team has worked hard to make sure the competition is in line with other homebrewing competitions regarding rules\, timeframes\, and judging criteria. \nCost is $10 per entry and you are limited to 4 entries. \nBe sure to play our Cattle Battle category\, too! Mead Stampede organizers will brew up a special batch of mead featuring: hops\, citrus\, and honey. Here’s the challenge: we just gave you the ingredients\, but not the recipe. You brew with these ingredients – trying your best to guess what the Cattle Battle Challenge mead tastes like. Whichever entry gets the closest in flavor to the official brew will be declared the winner!
URL:https://meadcomps.com/event/mead-stampede/
LOCATION:Main Event (Awards ceremony)\, 1441 W Memorial Rd\, Oklahoma City\, OK\, 73114\, United States
ATTACH;FMTTYPE=image/jpeg:https://meadcomps.com/wp-content/uploads/2023/04/cover-1.jpg
ORGANIZER;CN="Mead%20Stampede":MAILTO:info@meadstampede.org
GEO:35.6101448;-97.5380944
X-APPLE-STRUCTURED-LOCATION;VALUE=URI;X-ADDRESS=Main Event (Awards ceremony) 1441 W Memorial Rd Oklahoma City OK 73114 United States;X-APPLE-RADIUS=500;X-TITLE=1441 W Memorial Rd:geo:-97.5380944,35.6101448
END:VEVENT
END:VCALENDAR