BEGIN:VCALENDAR
VERSION:2.0
PRODID:-//MeadComps - ECPv6.0.12//NONSGML v1.0//EN
CALSCALE:GREGORIAN
METHOD:PUBLISH
X-ORIGINAL-URL:https://meadcomps.com
X-WR-CALDESC:Events for MeadComps
REFRESH-INTERVAL;VALUE=DURATION:PT1H
X-Robots-Tag:noindex
X-PUBLISHED-TTL:PT1H
BEGIN:VTIMEZONE
TZID:UTC
BEGIN:STANDARD
TZOFFSETFROM:+0000
TZOFFSETTO:+0000
TZNAME:UTC
DTSTART:20240101T000000
END:STANDARD
END:VTIMEZONE
BEGIN:VEVENT
DTSTART;VALUE=DATE:20240302
DTEND;VALUE=DATE:20240303
DTSTAMP:20260424T061910
CREATED:20231024T163123Z
LAST-MODIFIED:20231024T163123Z
UID:10000030-1709337600-1709423999@meadcomps.com
SUMMARY:Operation Fermentation X
DESCRIPTION:I’m inviting everyone to participate in 2024 Operation Fermenation X. This is our 10th anniversary of the competition. Registration opens on the 11th of November and historically fills very quickly. By quickly\, I mean within 2 hours of registration opening the competition is filled. Demand is high because each gold medal winner gets to take home an embossed goblet as shown. \nWe will have 13 Mead medalling tables correlating to the BJCP 2015 mead sub-categories. Each table winner gets a goblet. Mark your calendars! \nhttps://opferm.cialers.org
URL:https://meadcomps.com/event/operation-fermentation-x/
LOCATION:Mayde Creek Event Center\, 19600 Misty Cove Dr\, Katy\, TX\, 77449\, United States
ATTACH;FMTTYPE=image/jpeg:https://meadcomps.com/wp-content/uploads/2023/10/goblets.jpg
ORGANIZER;CN="Cane%20Island%20Alers":MAILTO:caneislandalers@gmail.com
END:VEVENT
END:VCALENDAR